BEGIN:VCALENDAR
VERSION:2.0
PRODID:-//eventon.com NONSGML v1.0//EN
CALSCALE:GREGORIAN
METHOD:PUBLISH
BEGIN:VEVENT
UID:69e5ff6b52fd4
DTSTAMP:20260420T102651Z
DTSTART:20260403T210000Z
DTEND:20260403T235900Z
LOCATION:Calle 21 No. 403 e/ F y G\,  Vedado Cuba
SUMMARY:Rachel Therrien y Orozco Contemporánea
DESCRIPTION:\nhttps://tunturuntu.org/events/rachel-therrien-y-orozco-contem
 poranea/
URL:https://tunturuntu.org/events/rachel-therrien-y-orozco-contemporanea/
END:VEVENT
END:VCALENDAR