BEGIN:VCALENDAR
VERSION:2.0
PRODID:-//eventon.com NONSGML v1.0//EN
CALSCALE:GREGORIAN
METHOD:PUBLISH
BEGIN:VEVENT
UID:69e5ffbe711c4
DTSTAMP:20260420T102814Z
DTSTART:20260314T200000Z
DTEND:20260314T235900Z
LOCATION:Centro de Convenciones\,  Perú
SUMMARY:Homenaje a la Timba de los 90
DESCRIPTION:\nhttps://tunturuntu.org/events/homenaje-a-la-timba-de-los-90/
URL:https://tunturuntu.org/events/homenaje-a-la-timba-de-los-90/
END:VEVENT
END:VCALENDAR