BEGIN:VCALENDAR
VERSION:2.0
PRODID:-//eventon.com NONSGML v1.0//EN
CALSCALE:GREGORIAN
METHOD:PUBLISH
BEGIN:VEVENT
UID:69e4e8bdee0aa
DTSTAMP:20260419T143749Z
DTSTART:20260317T193000Z
DTEND:20260317T235900Z
LOCATION:Jazz Café ESCAZÚ
SUMMARY:Tambor CR Fest
DESCRIPTION:\nhttps://tunturuntu.org/events/tambor-cr-fest/
URL:https://tunturuntu.org/events/tambor-cr-fest/
END:VEVENT
END:VCALENDAR