BEGIN:VCALENDAR
VERSION:2.0
PRODID:-//eventon.com NONSGML v1.0//EN
CALSCALE:GREGORIAN
METHOD:PUBLISH
BEGIN:VEVENT
UID:69e8aa1535ca7
DTSTAMP:20260422T105933Z
DTSTART:20260317T200000Z
DTEND:20260317T235900Z
LOCATION:Sala Shoko\,  Madrid
SUMMARY:Alexander Abreu y Havana D´ Primera
DESCRIPTION:\nhttps://tunturuntu.org/events/alexander-abreu-y-havana-d-prim
 era-10/
URL:https://tunturuntu.org/events/alexander-abreu-y-havana-d-primera-10/
END:VEVENT
END:VCALENDAR