BEGIN:VCALENDAR
VERSION:2.0
PRODID:-//eventon.com NONSGML v1.0//EN
CALSCALE:GREGORIAN
METHOD:PUBLISH
BEGIN:VEVENT
UID:69e739eb1b57a
DTSTAMP:20260421T084843Z
DTSTART:20260313
DTEND:20260314
LOCATION:Sala Clamores\,  Madrid // Sala Jamboree 2\,  Barcelona - España
SUMMARY:X Alfonso
DESCRIPTION:\nhttps://tunturuntu.org/events/x-alfonso/
URL:https://tunturuntu.org/events/x-alfonso/
END:VEVENT
END:VCALENDAR