BEGIN:VCALENDAR
VERSION:2.0
PRODID:-//eventon.com NONSGML v1.0//EN
CALSCALE:GREGORIAN
METHOD:PUBLISH
BEGIN:VEVENT
UID:69e73c4c76be3
DTSTAMP:20260421T085852Z
DTSTART:20260402
DTEND:20260403
LOCATION:Europa Tour
SUMMARY:Manana Club
DESCRIPTION:\nhttps://tunturuntu.org/events/manana-club/
URL:https://tunturuntu.org/events/manana-club/
END:VEVENT
END:VCALENDAR