BEGIN:VCALENDAR
VERSION:2.0
PRODID:-//eventon.com NONSGML v1.0//EN
CALSCALE:GREGORIAN
METHOD:PUBLISH
BEGIN:VEVENT
UID:69e737a706823
DTSTAMP:20260421T083903Z
DTSTART:20260201T134600Z
DTEND:20260201T235900Z
LOCATION:Europa Tour
SUMMARY:Velito el bufón
DESCRIPTION:\nhttps://tunturuntu.org/events/velito-el-bufon-7/
URL:https://tunturuntu.org/events/velito-el-bufon-7/
END:VEVENT
END:VCALENDAR