BEGIN:VCALENDAR
VERSION:2.0
PRODID:-//eventon.com NONSGML v1.0//EN
CALSCALE:GREGORIAN
METHOD:PUBLISH
BEGIN:VEVENT
UID:69e5e968aee85
DTSTAMP:20260420T085256Z
DTSTART:20251121
DTEND:20251122
LOCATION:Europa Tour
SUMMARY:Yomil Champions
DESCRIPTION:\nhttps://tunturuntu.org/events/yomil-champions/
URL:https://tunturuntu.org/events/yomil-champions/
END:VEVENT
END:VCALENDAR