BEGIN:VCALENDAR
VERSION:2.0
PRODID:-//eventon.com NONSGML v1.0//EN
CALSCALE:GREGORIAN
METHOD:PUBLISH
BEGIN:VEVENT
UID:69e5e87a80433
DTSTAMP:20260420T084858Z
DTSTART:20250926
DTEND:20250927
LOCATION:LM Bar\,  La Habana Cuba
SUMMARY:Velito el Bufón
DESCRIPTION:\nhttps://tunturuntu.org/events/velito-el-bufon-2/
URL:https://tunturuntu.org/events/velito-el-bufon-2/
END:VEVENT
END:VCALENDAR