BEGIN:VCALENDAR
VERSION:2.0
PRODID:-//eventon.com NONSGML v1.0//EN
CALSCALE:GREGORIAN
METHOD:PUBLISH
BEGIN:VEVENT
UID:69e5e8b68b2fd
DTSTAMP:20260420T084958Z
DTSTART:20251120
DTEND:20251121
LOCATION:Europa Tour
SUMMARY:Yomil
DESCRIPTION:\nhttps://tunturuntu.org/events/yomil-4/
URL:https://tunturuntu.org/events/yomil-4/
END:VEVENT
END:VCALENDAR