BEGIN:VCALENDAR
VERSION:2.0
PRODID:-//eventon.com NONSGML v1.0//EN
CALSCALE:GREGORIAN
METHOD:PUBLISH
BEGIN:VEVENT
UID:69e5e8a2a86c2
DTSTAMP:20260420T084938Z
DTSTART:20250711T210000Z
DTEND:20250711T235900Z
LOCATION:Tulipán y Loma\,  Nuevo Vedado
SUMMARY:"8  1/2"
DESCRIPTION:\nhttps://tunturuntu.org/events/8-1-2/
URL:https://tunturuntu.org/events/8-1-2/
END:VEVENT
END:VCALENDAR