BEGIN:VCALENDAR
VERSION:2.0
PRODID:-//eventon.com NONSGML v1.0//EN
CALSCALE:GREGORIAN
METHOD:PUBLISH
BEGIN:VEVENT
UID:69e5e872bce02
DTSTAMP:20260420T084850Z
DTSTART:20250427
DTEND:20250428
LOCATION:Tour Internacional
SUMMARY:Pauza
DESCRIPTION:\nhttps://tunturuntu.org/events/pauza/
URL:https://tunturuntu.org/events/pauza/
END:VEVENT
END:VCALENDAR