BEGIN:VCALENDAR
VERSION:2.0
PRODID:-//eventon.com NONSGML v1.0//EN
CALSCALE:GREGORIAN
METHOD:PUBLISH
BEGIN:VEVENT
UID:69e5e872c0a3e
DTSTAMP:20260420T084850Z
DTSTART:20250711
DTEND:20250712
LOCATION:El Diablo Tun Tun\,  La Habana Cuba
SUMMARY:Arturo Sandoval
DESCRIPTION:\nhttps://tunturuntu.org/events/arturo-sandoval/
URL:https://tunturuntu.org/events/arturo-sandoval/
END:VEVENT
END:VCALENDAR