BEGIN:VCALENDAR
VERSION:2.0
PRODID:-//eventon.com NONSGML v1.0//EN
CALSCALE:GREGORIAN
METHOD:PUBLISH
BEGIN:VEVENT
UID:69e739eb2b7fa
DTSTAMP:20260421T084843Z
DTSTART:20250404T210000Z
DTEND:20250404T235900Z
LOCATION:Línea y L\,  Vedado// La Habana\,  Cuba
SUMMARY:Haila y su Orquesta
DESCRIPTION:\nhttps://tunturuntu.org/events/haila-y-su-orquesta/
URL:https://tunturuntu.org/events/haila-y-su-orquesta/
END:VEVENT
END:VCALENDAR