BEGIN:VCALENDAR
VERSION:2.0
PRODID:-//eventon.com NONSGML v1.0//EN
CALSCALE:GREGORIAN
METHOD:PUBLISH
BEGIN:VEVENT
UID:69e75227ab4e7
DTSTAMP:20260421T103207Z
DTSTART:20250228
DTEND:20250301
LOCATION:La Mesa\,  Doral //7575 NW 12th St\,  Miami\,  FL 33126
SUMMARY:El Bian
DESCRIPTION:\nhttps://tunturuntu.org/events/el-bian/
URL:https://tunturuntu.org/events/el-bian/
END:VEVENT
END:VCALENDAR