BEGIN:VCALENDAR
VERSION:2.0
PRODID:-//eventon.com NONSGML v1.0//EN
CALSCALE:GREGORIAN
METHOD:PUBLISH
BEGIN:VEVENT
UID:69e750b564cc0
DTSTAMP:20260421T102557Z
DTSTART:20241222
DTEND:20241223
LOCATION:Malecón Habanero
SUMMARY:Alexander Abreu\,  Eduardo Sandoval\,  Camioo Bonne\,  Velito el Bufón
DESCRIPTION:\nhttps://tunturuntu.org/events/alexander-abreu-eduardo-sandova
 l-camioo-bonne-velito-el-bufon/
URL:https://tunturuntu.org/events/alexander-abreu-eduardo-sandoval-camioo-bonne-velito-el-bufon/
END:VEVENT
END:VCALENDAR