BEGIN:VCALENDAR
VERSION:2.0
PRODID:-//eventon.com NONSGML v1.0//EN
CALSCALE:GREGORIAN
METHOD:PUBLISH
BEGIN:VEVENT
UID:69e73be758c69
DTSTAMP:20260421T085711Z
DTSTART:20241010
DTEND:20241011
LOCATION:Europa (Alemania\,  Francia\,  Austria\,  Suiza\,  España)
SUMMARY:Maykel Blanco
DESCRIPTION:\nhttps://tunturuntu.org/events/maykel-blanco/
URL:https://tunturuntu.org/events/maykel-blanco/
END:VEVENT
END:VCALENDAR